BEGIN:VCALENDAR
VERSION:2.0
PRODID:-//Gemeinde Oberdolling - ECPv6.15.17.1//NONSGML v1.0//EN
CALSCALE:GREGORIAN
METHOD:PUBLISH
X-ORIGINAL-URL:https://www.oberdolling.de
X-WR-CALDESC:Veranstaltungen für Gemeinde Oberdolling
REFRESH-INTERVAL;VALUE=DURATION:PT1H
X-Robots-Tag:noindex
X-PUBLISHED-TTL:PT1H
BEGIN:VTIMEZONE
TZID:Europe/Berlin
BEGIN:DAYLIGHT
TZOFFSETFROM:+0100
TZOFFSETTO:+0200
TZNAME:CEST
DTSTART:20250330T010000
END:DAYLIGHT
BEGIN:STANDARD
TZOFFSETFROM:+0200
TZOFFSETTO:+0100
TZNAME:CET
DTSTART:20251026T010000
END:STANDARD
BEGIN:DAYLIGHT
TZOFFSETFROM:+0100
TZOFFSETTO:+0200
TZNAME:CEST
DTSTART:20260329T010000
END:DAYLIGHT
BEGIN:STANDARD
TZOFFSETFROM:+0200
TZOFFSETTO:+0100
TZNAME:CET
DTSTART:20261025T010000
END:STANDARD
BEGIN:DAYLIGHT
TZOFFSETFROM:+0100
TZOFFSETTO:+0200
TZNAME:CEST
DTSTART:20270328T010000
END:DAYLIGHT
BEGIN:STANDARD
TZOFFSETFROM:+0200
TZOFFSETTO:+0100
TZNAME:CET
DTSTART:20271031T010000
END:STANDARD
END:VTIMEZONE
BEGIN:VEVENT
DTSTART;TZID=Europe/Berlin:20260228T000000
DTEND;TZID=Europe/Berlin:20260307T000000
DTSTAMP:20260421T013919
CREATED:20260320T124401Z
LAST-MODIFIED:20260320T132756Z
UID:9083-1772236800-1772841600@www.oberdolling.de
SUMMARY:Wochenskifahrt Schweiz – Skiabteilung SV Dolling
DESCRIPTION:Die Skiabteilung des SV Dolling fährt zur jährlichen Wochenskifahrt in die Schweiz. Nähere Informationen bei der Skiabteilung.
URL:https://www.oberdolling.de/kalender/wochenskifahrt-schweiz-skiabteilung-sv-dolling/
CATEGORIES:Sport,Verein
END:VEVENT
BEGIN:VEVENT
DTSTART;TZID=Europe/Berlin:20260306T173000
DTEND;TZID=Europe/Berlin:20260306T173000
DTSTAMP:20260421T013919
CREATED:20260320T124406Z
LAST-MODIFIED:20260320T132801Z
UID:9084-1772818200-1772818200@www.oberdolling.de
SUMMARY:Weltgebetstag der Frauen
DESCRIPTION:Der ökumenische Weltgebetstag der Frauen findet in Oberdolling statt. Alle Interessierten sind herzlich willkommen.
URL:https://www.oberdolling.de/kalender/weltgebetstag-der-frauen-2/
CATEGORIES:Gesellschaft,Kirche
END:VEVENT
BEGIN:VEVENT
DTSTART;VALUE=DATE:20260308
DTEND;VALUE=DATE:20260309
DTSTAMP:20260421T013919
CREATED:20260320T130835Z
LAST-MODIFIED:20260320T133100Z
UID:9213-1772928000-1773014399@www.oberdolling.de
SUMMARY:Kommunalwahl
DESCRIPTION:Kommunalwahl in Oberdolling. Alle wahlberechtigten Bürgerinnen und Bürger sind aufgerufen\, ihre Stimme abzugeben.
URL:https://www.oberdolling.de/kalender/kommunalwahl/
CATEGORIES:Gemeinde,Politik
END:VEVENT
BEGIN:VEVENT
DTSTART;TZID=Europe/Berlin:20260308T110000
DTEND;TZID=Europe/Berlin:20260308T110000
DTSTAMP:20260421T013919
CREATED:20260320T124407Z
LAST-MODIFIED:20260320T132801Z
UID:9085-1772967600-1772967600@www.oberdolling.de
SUMMARY:Kesselfleischessen FF Unterdolling
DESCRIPTION:Die Freiwillige Feuerwehr Unterdolling lädt zum traditionellen Kesselfleischessen ein. Eine leckere bayerische Tradition!
URL:https://www.oberdolling.de/kalender/kesselfleischessen-ff-unterdolling/
LOCATION:Unterdolling
CATEGORIES:Geselligkeit,Verein
END:VEVENT
BEGIN:VEVENT
DTSTART;TZID=Europe/Berlin:20260310T090000
DTEND;TZID=Europe/Berlin:20260310T090000
DTSTAMP:20260421T013919
CREATED:20260320T130835Z
LAST-MODIFIED:20260320T132801Z
UID:9214-1773133200-1773133200@www.oberdolling.de
SUMMARY:Palmbüscherl binden im Pfarrsaal (Vormittag)
DESCRIPTION:Gemeinsames Palmbüscherl binden im Pfarrsaal – eine schöne Tradition zur Vorbereitung auf Palmsonntag.
URL:https://www.oberdolling.de/kalender/palmbuescherl-binden-im-pfarrsaal-vormittag/
LOCATION:Pfarrsaal Oberdolling
CATEGORIES:Kirche,Tradition
END:VEVENT
BEGIN:VEVENT
DTSTART;TZID=Europe/Berlin:20260310T180000
DTEND;TZID=Europe/Berlin:20260310T180000
DTSTAMP:20260421T013919
CREATED:20260320T130835Z
LAST-MODIFIED:20260320T132801Z
UID:9215-1773165600-1773165600@www.oberdolling.de
SUMMARY:Jahreshauptversammlung
DESCRIPTION:Jahreshauptversammlung in Oberdolling. Nähere Informationen beim jeweiligen Verein.
URL:https://www.oberdolling.de/kalender/jahreshauptversammlung/
CATEGORIES:Verein
END:VEVENT
BEGIN:VEVENT
DTSTART;TZID=Europe/Berlin:20260311T143000
DTEND;TZID=Europe/Berlin:20260311T143000
DTSTAMP:20260421T013919
CREATED:20260320T130839Z
LAST-MODIFIED:20260320T132806Z
UID:9216-1773239400-1773239400@www.oberdolling.de
SUMMARY:Palmbüscherl binden im Pfarrsaal (Nachmittag)
DESCRIPTION:Zweiter Termin zum Palmbüscherl binden im Pfarrsaal für alle\, die am Dienstagvormittag verhindert waren.
URL:https://www.oberdolling.de/kalender/palmbuescherl-binden-im-pfarrsaal-nachmittag/
LOCATION:Pfarrsaal Oberdolling
CATEGORIES:Kirche,Tradition
END:VEVENT
BEGIN:VEVENT
DTSTART;TZID=Europe/Berlin:20260315T103000
DTEND;TZID=Europe/Berlin:20260315T103000
DTSTAMP:20260421T013919
CREATED:20260320T124417Z
LAST-MODIFIED:20260320T132806Z
UID:9089-1773570600-1773570600@www.oberdolling.de
SUMMARY:Jahreshauptversammlung Krieger- und Soldatenverein
DESCRIPTION:Der Krieger- und Soldatenverein Oberdolling hält seine Jahreshauptversammlung in der Roßschwemm ab.
URL:https://www.oberdolling.de/kalender/jahreshauptversammlung-krieger-und-soldatenverein-2/
CATEGORIES:Verein
END:VEVENT
BEGIN:VEVENT
DTSTART;TZID=Europe/Berlin:20260315T143000
DTEND;TZID=Europe/Berlin:20260315T143000
DTSTAMP:20260421T013919
CREATED:20260320T124417Z
LAST-MODIFIED:20260320T132806Z
UID:9090-1773585000-1773585000@www.oberdolling.de
SUMMARY:Jahreshauptversammlung Obst- und Gartenbauverein
DESCRIPTION:Der Obst- und Gartenbauverein lädt zur Jahreshauptversammlung in die Roßschwemm Oberdolling ein.
URL:https://www.oberdolling.de/kalender/jahreshauptversammlung-obst-und-gartenbauverein-2/
CATEGORIES:Verein
END:VEVENT
BEGIN:VEVENT
DTSTART;TZID=Europe/Berlin:20260320T190000
DTEND;TZID=Europe/Berlin:20260320T190000
DTSTAMP:20260421T013919
CREATED:20260320T124417Z
LAST-MODIFIED:20260320T132806Z
UID:9091-1774033200-1774033200@www.oberdolling.de
SUMMARY:Jahreshauptversammlung Abteilung Tennis
DESCRIPTION:Die Tennisabteilung des SV Dolling hält ihre Jahreshauptversammlung in der Roßschwemm Oberdolling ab.
URL:https://www.oberdolling.de/kalender/jahreshauptversammlung-abteilung-tennis/
CATEGORIES:Sport,Verein
END:VEVENT
BEGIN:VEVENT
DTSTART;TZID=Europe/Berlin:20260321T000000
DTEND;TZID=Europe/Berlin:20260322T000000
DTSTAMP:20260421T013919
CREATED:20260320T124417Z
LAST-MODIFIED:20260320T132811Z
UID:9093-1774051200-1774137600@www.oberdolling.de
SUMMARY:2-Tagesskifahrt Abteilung Ski nach Sölden
DESCRIPTION:Die Skiabteilung des SV Dolling veranstaltet eine zweitägige Skifreizeit in Sölden. Anmeldung bei der Skiabteilung.
URL:https://www.oberdolling.de/kalender/2-tagesskifahrt-abteilung-ski-nach-soelden/
CATEGORIES:Sport,Verein
END:VEVENT
BEGIN:VEVENT
DTSTART;TZID=Europe/Berlin:20260321T140000
DTEND;TZID=Europe/Berlin:20260321T140000
DTSTAMP:20260421T013919
CREATED:20260320T124417Z
LAST-MODIFIED:20260320T132806Z
UID:9092-1774101600-1774101600@www.oberdolling.de
SUMMARY:Osterbasar des Frauenbundes
DESCRIPTION:Der Frauenbund Oberdolling veranstaltet seinen Osterbasar im Pfarrsaal. Viele schöne Osterartikel warten auf neue Besitzer.
URL:https://www.oberdolling.de/kalender/osterbasar-des-frauenbundes/
LOCATION:Pfarrsaal Oberdolling
CATEGORIES:Tradition,Verein
END:VEVENT
BEGIN:VEVENT
DTSTART;TZID=Europe/Berlin:20260322T100000
DTEND;TZID=Europe/Berlin:20260322T100000
DTSTAMP:20260421T013919
CREATED:20260320T130846Z
LAST-MODIFIED:20260320T132811Z
UID:9218-1774173600-1774173600@www.oberdolling.de
SUMMARY:Jahreshauptversammlung Jagdgenossenschaft Unterdolling
DESCRIPTION:Die Jagdgenossenschaft Unterdolling hält ihre Jahreshauptversammlung im Feuerwehrhaus Unterdolling ab.
URL:https://www.oberdolling.de/kalender/jahreshauptversammlung-jagdgenossenschaft-unterdolling/
CATEGORIES:Verein
END:VEVENT
BEGIN:VEVENT
DTSTART;TZID=Europe/Berlin:20260322T133000
DTEND;TZID=Europe/Berlin:20260322T133000
DTSTAMP:20260421T013919
CREATED:20260320T130846Z
LAST-MODIFIED:20260320T132811Z
UID:9219-1774186200-1774186200@www.oberdolling.de
SUMMARY:Kreuzweg Frauenbund
DESCRIPTION:Der Frauenbund Oberdolling lädt zur gemeinsamen Kreuzwegandacht ein. Alle Gläubigen sind herzlich willkommen.
URL:https://www.oberdolling.de/kalender/kreuzweg-frauenbund/
CATEGORIES:Kirche,Verein
END:VEVENT
BEGIN:VEVENT
DTSTART;TZID=Europe/Berlin:20260322T180000
DTEND;TZID=Europe/Berlin:20260322T180000
DTSTAMP:20260421T013919
CREATED:20260320T130846Z
LAST-MODIFIED:20260320T132811Z
UID:9220-1774202400-1774202400@www.oberdolling.de
SUMMARY:Jahreshauptversammlung Förderverein Dolling
DESCRIPTION:Der Förderverein Dolling hält seine Jahreshauptversammlung in der Roßschwemm Oberdolling ab.
URL:https://www.oberdolling.de/kalender/jahreshauptversammlung-foerderverein-dolling/
CATEGORIES:Verein
END:VEVENT
BEGIN:VEVENT
DTSTART;VALUE=DATE:20260328
DTEND;VALUE=DATE:20260329
DTSTAMP:20260421T013919
CREATED:20260320T130847Z
LAST-MODIFIED:20260320T133134Z
UID:9221-1774656000-1774742399@www.oberdolling.de
SUMMARY:Inspektion Feuerwehr Oberdolling
DESCRIPTION:Die Freiwillige Feuerwehr Oberdolling stellt sich zur offiziellen Inspektion. Näheres zum genauen Ablauf gibt die Feuerwehr bekannt.
URL:https://www.oberdolling.de/kalender/inspektion-feuerwehr-oberdolling/
CATEGORIES:Feuerwehr,Verein
END:VEVENT
BEGIN:VEVENT
DTSTART;TZID=Europe/Berlin:20260329T180000
DTEND;TZID=Europe/Berlin:20260329T180000
DTSTAMP:20260421T013919
CREATED:20260320T130850Z
LAST-MODIFIED:20260320T132816Z
UID:9222-1774807200-1774807200@www.oberdolling.de
SUMMARY:Jahreshauptversammlung Sportverein in der Roßschwemm
DESCRIPTION:Der Sportverein Dolling hält seine Jahreshauptversammlung in der Roßschwemm Oberdolling ab.
URL:https://www.oberdolling.de/kalender/jahreshauptversammlung-sportverein-in-der-rossschwemm/
CATEGORIES:Sport,Verein
END:VEVENT
END:VCALENDAR