BEGIN:VCALENDAR
VERSION:2.0
PRODID:-//Gemeinde Oberdolling - ECPv6.15.17.1//NONSGML v1.0//EN
CALSCALE:GREGORIAN
METHOD:PUBLISH
X-WR-CALNAME:Gemeinde Oberdolling
X-ORIGINAL-URL:https://www.oberdolling.de
X-WR-CALDESC:Veranstaltungen für Gemeinde Oberdolling
REFRESH-INTERVAL;VALUE=DURATION:PT1H
X-Robots-Tag:noindex
X-PUBLISHED-TTL:PT1H
BEGIN:VTIMEZONE
TZID:Europe/Berlin
BEGIN:DAYLIGHT
TZOFFSETFROM:+0100
TZOFFSETTO:+0200
TZNAME:CEST
DTSTART:20250330T010000
END:DAYLIGHT
BEGIN:STANDARD
TZOFFSETFROM:+0200
TZOFFSETTO:+0100
TZNAME:CET
DTSTART:20251026T010000
END:STANDARD
BEGIN:DAYLIGHT
TZOFFSETFROM:+0100
TZOFFSETTO:+0200
TZNAME:CEST
DTSTART:20260329T010000
END:DAYLIGHT
BEGIN:STANDARD
TZOFFSETFROM:+0200
TZOFFSETTO:+0100
TZNAME:CET
DTSTART:20261025T010000
END:STANDARD
BEGIN:DAYLIGHT
TZOFFSETFROM:+0100
TZOFFSETTO:+0200
TZNAME:CEST
DTSTART:20270328T010000
END:DAYLIGHT
BEGIN:STANDARD
TZOFFSETFROM:+0200
TZOFFSETTO:+0100
TZNAME:CET
DTSTART:20271031T010000
END:STANDARD
END:VTIMEZONE
BEGIN:VEVENT
DTSTART;TZID=Europe/Berlin:20260604T090000
DTEND;TZID=Europe/Berlin:20260604T090000
DTSTAMP:20260421T031946
CREATED:20260320T124432Z
LAST-MODIFIED:20260320T132826Z
UID:9105-1780563600-1780563600@www.oberdolling.de
SUMMARY:Fronleichnam mit Prozession
DESCRIPTION:Fronleichnam in Oberdolling mit festlichem Gottesdienst und anschließender Prozession durch den Ort. Alle Gläubigen sind herzlich eingeladen.
URL:https://www.oberdolling.de/kalender/fronleichnam-mit-prozession/
CATEGORIES:Kirche,Tradition
END:VEVENT
BEGIN:VEVENT
DTSTART;VALUE=DATE:20260606
DTEND;VALUE=DATE:20260607
DTSTAMP:20260421T031946
CREATED:20260320T124432Z
LAST-MODIFIED:20260320T133319Z
UID:9106-1780704000-1780790399@www.oberdolling.de
SUMMARY:Florianstag der Freiwilligen Feuerwehr Oberdolling
DESCRIPTION:Die Freiwillige Feuerwehr Oberdolling feiert ihren Florianstag. Näheres zum genauen Programm gibt die Feuerwehr bekannt.
URL:https://www.oberdolling.de/kalender/florianstag-der-freiwilligen-feuerwehr-oberdolling/
CATEGORIES:Feuerwehr,Verein
END:VEVENT
BEGIN:VEVENT
DTSTART;VALUE=DATE:20260621
DTEND;VALUE=DATE:20260622
DTSTAMP:20260421T031946
CREATED:20260320T130904Z
LAST-MODIFIED:20260320T133334Z
UID:9227-1782000000-1782086399@www.oberdolling.de
SUMMARY:Radifest Obst- und Gartenbauverein
DESCRIPTION:Der Obst- und Gartenbauverein veranstaltet sein Radifest. Details zum Programm folgen.
URL:https://www.oberdolling.de/kalender/radifest-obst-und-gartenbauverein/
CATEGORIES:Geselligkeit,Verein
END:VEVENT
BEGIN:VEVENT
DTSTART;TZID=Europe/Berlin:20260628T100000
DTEND;TZID=Europe/Berlin:20260628T100000
DTSTAMP:20260421T031946
CREATED:20260320T124432Z
LAST-MODIFIED:20260320T132831Z
UID:9108-1782640800-1782640800@www.oberdolling.de
SUMMARY:Herz-Jesu-Fest in Unterdolling mit Dorffest
DESCRIPTION:Das Herz-Jesu-Fest in Unterdolling beginnt mit einem feierlichen Gottesdienst\, im Anschluss findet das beliebte Dorffest statt.
URL:https://www.oberdolling.de/kalender/herz-jesu-fest-in-unterdolling-mit-dorffest/
LOCATION:Unterdolling
CATEGORIES:Geselligkeit,Kirche
END:VEVENT
END:VCALENDAR